BEGIN:VCALENDAR
VERSION:2.0
PRODID:-//Canyon Farmers Market - ECPv6.15.20//NONSGML v1.0//EN
CALSCALE:GREGORIAN
METHOD:PUBLISH
X-ORIGINAL-URL:https://canyonfarmersmarket.org
X-WR-CALDESC:Events for Canyon Farmers Market
REFRESH-INTERVAL;VALUE=DURATION:PT1H
X-Robots-Tag:noindex
X-PUBLISHED-TTL:PT1H
BEGIN:VTIMEZONE
TZID:America/Chicago
BEGIN:DAYLIGHT
TZOFFSETFROM:-0600
TZOFFSETTO:-0500
TZNAME:CDT
DTSTART:20250309T080000
END:DAYLIGHT
BEGIN:STANDARD
TZOFFSETFROM:-0500
TZOFFSETTO:-0600
TZNAME:CST
DTSTART:20251102T070000
END:STANDARD
BEGIN:DAYLIGHT
TZOFFSETFROM:-0600
TZOFFSETTO:-0500
TZNAME:CDT
DTSTART:20260308T080000
END:DAYLIGHT
BEGIN:STANDARD
TZOFFSETFROM:-0500
TZOFFSETTO:-0600
TZNAME:CST
DTSTART:20261101T070000
END:STANDARD
BEGIN:DAYLIGHT
TZOFFSETFROM:-0600
TZOFFSETTO:-0500
TZNAME:CDT
DTSTART:20270314T080000
END:DAYLIGHT
BEGIN:STANDARD
TZOFFSETFROM:-0500
TZOFFSETTO:-0600
TZNAME:CST
DTSTART:20271107T070000
END:STANDARD
END:VTIMEZONE
BEGIN:VEVENT
DTSTART;TZID=America/Chicago:20260419T170000
DTEND;TZID=America/Chicago:20260419T210000
DTSTAMP:20260421T192436
CREATED:20260226T170519Z
LAST-MODIFIED:20260226T170519Z
UID:2232-1776618000-1776632400@canyonfarmersmarket.org
SUMMARY:Spring Moon Market
DESCRIPTION:Moonlight\, Lights\, Vendors\, Live Music\, Food Trucks\, and Activities on the Canyon Square
URL:https://canyonfarmersmarket.org/calendar/spring-moon-market/
LOCATION:Canyon Farmers Market\, 4th Ave. & 15th St\, Canyon\, TX\, Canyon\, United States
ATTACH;FMTTYPE=image/jpeg:https://canyonfarmersmarket.org/web/wp-content/uploads/2025/02/IMG_2848-1-scaled.jpeg
END:VEVENT
BEGIN:VEVENT
DTSTART;TZID=America/Chicago:20260429T180000
DTEND;TZID=America/Chicago:20260429T190000
DTSTAMP:20260421T192436
CREATED:20260409T164748Z
LAST-MODIFIED:20260409T164748Z
UID:2322-1777485600-1777489200@canyonfarmersmarket.org
SUMMARY:Vendors Meeting
DESCRIPTION:This meeting is for our 2026 vendors.
URL:https://canyonfarmersmarket.org/calendar/vendormeeting/
LOCATION:Canyon Farmers Market\, 4th Ave. & 15th St\, Canyon\, TX\, Canyon\, United States
ATTACH;FMTTYPE=image/jpeg:https://canyonfarmersmarket.org/web/wp-content/uploads/2025/02/IMG_2848-1-scaled.jpeg
END:VEVENT
BEGIN:VEVENT
DTSTART;TZID=America/Chicago:20260514T180000
DTEND;TZID=America/Chicago:20260514T190000
DTSTAMP:20260421T192436
CREATED:20260409T164829Z
LAST-MODIFIED:20260409T164829Z
UID:2324-1778781600-1778785200@canyonfarmersmarket.org
SUMMARY:Vendors Meeting
DESCRIPTION:This meeting is for our 2026 vendors.
URL:https://canyonfarmersmarket.org/calendar/vendors-meeting/
LOCATION:Canyon Farmers Market\, 4th Ave. & 15th St\, Canyon\, TX\, Canyon\, United States
ATTACH;FMTTYPE=image/jpeg:https://canyonfarmersmarket.org/web/wp-content/uploads/2025/02/IMG_2848-1-scaled.jpeg
END:VEVENT
BEGIN:VEVENT
DTSTART;TZID=America/Chicago:20260606T080000
DTEND;TZID=America/Chicago:20260606T120000
DTSTAMP:20260421T192436
CREATED:20250227T002552Z
LAST-MODIFIED:20260114T165609Z
UID:1122-1780732800-1780747200@canyonfarmersmarket.org
SUMMARY:Canyon Farmers Market Opening Day
DESCRIPTION:Vendors\, Live Music\, Food Trucks\, and Activities On the Canyon Square
URL:https://canyonfarmersmarket.org/calendar/canyon-farmers-market-opening-day/
LOCATION:Canyon Farmers Market\, 4th Ave. & 15th St\, Canyon\, TX\, Canyon\, United States
ATTACH;FMTTYPE=image/jpeg:https://canyonfarmersmarket.org/web/wp-content/uploads/2025/02/IMG_2848-1-scaled.jpeg
END:VEVENT
BEGIN:VEVENT
DTSTART;TZID=America/Chicago:20260613T080000
DTEND;TZID=America/Chicago:20260613T120000
DTSTAMP:20260421T192436
CREATED:20260114T165722Z
LAST-MODIFIED:20260114T165722Z
UID:2044-1781337600-1781352000@canyonfarmersmarket.org
SUMMARY:Canyon Farmers Market
DESCRIPTION:Vendors\, Live Music\, Food Trucks\, and Activities On the Canyon Square
URL:https://canyonfarmersmarket.org/calendar/canyon-farmers-market/
LOCATION:Canyon Farmers Market\, 4th Ave. & 15th St\, Canyon\, TX\, Canyon\, United States
ATTACH;FMTTYPE=image/jpeg:https://canyonfarmersmarket.org/web/wp-content/uploads/2025/02/IMG_2848-1-scaled.jpeg
END:VEVENT
BEGIN:VEVENT
DTSTART;TZID=America/Chicago:20260620T080000
DTEND;TZID=America/Chicago:20260620T120000
DTSTAMP:20260421T192436
CREATED:20260114T165744Z
LAST-MODIFIED:20260114T165744Z
UID:2046-1781942400-1781956800@canyonfarmersmarket.org
SUMMARY:Canyon Farmers Market
DESCRIPTION:Vendors\, Live Music\, Food Trucks\, and Activities On the Canyon Square
URL:https://canyonfarmersmarket.org/calendar/canyon-farmers-market-2/
LOCATION:Canyon Farmers Market\, 4th Ave. & 15th St\, Canyon\, TX\, Canyon\, United States
ATTACH;FMTTYPE=image/jpeg:https://canyonfarmersmarket.org/web/wp-content/uploads/2025/02/IMG_2848-1-scaled.jpeg
END:VEVENT
BEGIN:VEVENT
DTSTART;TZID=America/Chicago:20260627T080000
DTEND;TZID=America/Chicago:20260627T120000
DTSTAMP:20260421T192436
CREATED:20260114T165805Z
LAST-MODIFIED:20260114T165805Z
UID:2048-1782547200-1782561600@canyonfarmersmarket.org
SUMMARY:Canyon Farmers Market
DESCRIPTION:Vendors\, Live Music\, Food Trucks\, and Activities On the Canyon Square
URL:https://canyonfarmersmarket.org/calendar/canyon-farmers-market-3/
LOCATION:Canyon Farmers Market\, 4th Ave. & 15th St\, Canyon\, TX\, Canyon\, United States
ATTACH;FMTTYPE=image/jpeg:https://canyonfarmersmarket.org/web/wp-content/uploads/2025/02/IMG_2848-1-scaled.jpeg
END:VEVENT
BEGIN:VEVENT
DTSTART;TZID=America/Chicago:20260711T080000
DTEND;TZID=America/Chicago:20260711T120000
DTSTAMP:20260421T192436
CREATED:20260114T165827Z
LAST-MODIFIED:20260114T165827Z
UID:2050-1783756800-1783771200@canyonfarmersmarket.org
SUMMARY:Canyon Farmers Market
DESCRIPTION:Vendors\, Live Music\, Food Trucks\, and Activities On the Canyon Square
URL:https://canyonfarmersmarket.org/calendar/canyon-farmers-market-4/
LOCATION:Canyon Farmers Market\, 4th Ave. & 15th St\, Canyon\, TX\, Canyon\, United States
ATTACH;FMTTYPE=image/jpeg:https://canyonfarmersmarket.org/web/wp-content/uploads/2025/02/IMG_2848-1-scaled.jpeg
END:VEVENT
BEGIN:VEVENT
DTSTART;TZID=America/Chicago:20260718T080000
DTEND;TZID=America/Chicago:20260718T120000
DTSTAMP:20260421T192436
CREATED:20260114T165849Z
LAST-MODIFIED:20260114T165849Z
UID:2052-1784361600-1784376000@canyonfarmersmarket.org
SUMMARY:Canyon Farmers Market
DESCRIPTION:Vendors\, Live Music\, Food Trucks\, and Activities On the Canyon Square
URL:https://canyonfarmersmarket.org/calendar/canyon-farmers-market-5/
LOCATION:Canyon Farmers Market\, 4th Ave. & 15th St\, Canyon\, TX\, Canyon\, United States
ATTACH;FMTTYPE=image/jpeg:https://canyonfarmersmarket.org/web/wp-content/uploads/2025/02/IMG_2848-1-scaled.jpeg
END:VEVENT
BEGIN:VEVENT
DTSTART;TZID=America/Chicago:20260725T080000
DTEND;TZID=America/Chicago:20260725T120000
DTSTAMP:20260421T192436
CREATED:20260114T165909Z
LAST-MODIFIED:20260114T165909Z
UID:2054-1784966400-1784980800@canyonfarmersmarket.org
SUMMARY:Canyon Farmers Market
DESCRIPTION:Vendors\, Live Music\, Food Trucks\, and Activities On the Canyon Square
URL:https://canyonfarmersmarket.org/calendar/canyon-farmers-market-6/
LOCATION:Canyon Farmers Market\, 4th Ave. & 15th St\, Canyon\, TX\, Canyon\, United States
ATTACH;FMTTYPE=image/jpeg:https://canyonfarmersmarket.org/web/wp-content/uploads/2025/02/IMG_2848-1-scaled.jpeg
END:VEVENT
BEGIN:VEVENT
DTSTART;TZID=America/Chicago:20260801T080000
DTEND;TZID=America/Chicago:20260801T120000
DTSTAMP:20260421T192436
CREATED:20260114T165932Z
LAST-MODIFIED:20260114T165932Z
UID:2056-1785571200-1785585600@canyonfarmersmarket.org
SUMMARY:Canyon Farmers Market
DESCRIPTION:Vendors\, Live Music\, Food Trucks\, and Activities On the Canyon Square
URL:https://canyonfarmersmarket.org/calendar/canyon-farmers-market-7/
LOCATION:Canyon Farmers Market\, 4th Ave. & 15th St\, Canyon\, TX\, Canyon\, United States
ATTACH;FMTTYPE=image/jpeg:https://canyonfarmersmarket.org/web/wp-content/uploads/2025/02/IMG_2848-1-scaled.jpeg
END:VEVENT
BEGIN:VEVENT
DTSTART;TZID=America/Chicago:20260808T080000
DTEND;TZID=America/Chicago:20260808T120000
DTSTAMP:20260421T192436
CREATED:20260114T165951Z
LAST-MODIFIED:20260114T165951Z
UID:2058-1786176000-1786190400@canyonfarmersmarket.org
SUMMARY:Canyon Farmers Market
DESCRIPTION:Vendors\, Live Music\, Food Trucks\, and Activities On the Canyon Square
URL:https://canyonfarmersmarket.org/calendar/canyon-farmers-market-8/
LOCATION:Canyon Farmers Market\, 4th Ave. & 15th St\, Canyon\, TX\, Canyon\, United States
ATTACH;FMTTYPE=image/jpeg:https://canyonfarmersmarket.org/web/wp-content/uploads/2025/02/IMG_2848-1-scaled.jpeg
END:VEVENT
BEGIN:VEVENT
DTSTART;TZID=America/Chicago:20260815T080000
DTEND;TZID=America/Chicago:20260815T120000
DTSTAMP:20260421T192436
CREATED:20260114T170025Z
LAST-MODIFIED:20260114T170025Z
UID:2060-1786780800-1786795200@canyonfarmersmarket.org
SUMMARY:Canyon Farmers Market
DESCRIPTION:Vendors\, Live Music\, Food Trucks\, and Activities On the Canyon Square
URL:https://canyonfarmersmarket.org/calendar/canyon-farmers-market-9/
LOCATION:Canyon Farmers Market\, 4th Ave. & 15th St\, Canyon\, TX\, Canyon\, United States
ATTACH;FMTTYPE=image/jpeg:https://canyonfarmersmarket.org/web/wp-content/uploads/2025/02/IMG_2848-1-scaled.jpeg
END:VEVENT
BEGIN:VEVENT
DTSTART;TZID=America/Chicago:20260822T080000
DTEND;TZID=America/Chicago:20260822T120000
DTSTAMP:20260421T192436
CREATED:20260114T170044Z
LAST-MODIFIED:20260114T170324Z
UID:2062-1787385600-1787400000@canyonfarmersmarket.org
SUMMARY:Canyon Farmers Market & Soaring Pride Band's Concert on the Square
DESCRIPTION:Vendors\, Live Music\, Food Trucks\, and Activities On the Canyon Square
URL:https://canyonfarmersmarket.org/calendar/canyon-farmers-market-10/
LOCATION:Canyon Farmers Market\, 4th Ave. & 15th St\, Canyon\, TX\, Canyon\, United States
ATTACH;FMTTYPE=image/jpeg:https://canyonfarmersmarket.org/web/wp-content/uploads/2025/02/IMG_2848-1-scaled.jpeg
END:VEVENT
BEGIN:VEVENT
DTSTART;TZID=America/Chicago:20260829T080000
DTEND;TZID=America/Chicago:20260829T120000
DTSTAMP:20260421T192436
CREATED:20260114T170104Z
LAST-MODIFIED:20260114T170104Z
UID:2064-1787990400-1788004800@canyonfarmersmarket.org
SUMMARY:Canyon Farmers Market
DESCRIPTION:Vendors\, Live Music\, Food Trucks\, and Activities On the Canyon Square
URL:https://canyonfarmersmarket.org/calendar/canyon-farmers-market-11/
LOCATION:Canyon Farmers Market\, 4th Ave. & 15th St\, Canyon\, TX\, Canyon\, United States
ATTACH;FMTTYPE=image/jpeg:https://canyonfarmersmarket.org/web/wp-content/uploads/2025/02/IMG_2848-1-scaled.jpeg
END:VEVENT
BEGIN:VEVENT
DTSTART;TZID=America/Chicago:20260905T080000
DTEND;TZID=America/Chicago:20260905T120000
DTSTAMP:20260421T192436
CREATED:20260114T170124Z
LAST-MODIFIED:20260114T170124Z
UID:2066-1788595200-1788609600@canyonfarmersmarket.org
SUMMARY:Canyon Farmers Market
DESCRIPTION:Vendors\, Live Music\, Food Trucks\, and Activities On the Canyon Square
URL:https://canyonfarmersmarket.org/calendar/canyon-farmers-market-12/
LOCATION:Canyon Farmers Market\, 4th Ave. & 15th St\, Canyon\, TX\, Canyon\, United States
ATTACH;FMTTYPE=image/jpeg:https://canyonfarmersmarket.org/web/wp-content/uploads/2025/02/IMG_2848-1-scaled.jpeg
END:VEVENT
BEGIN:VEVENT
DTSTART;TZID=America/Chicago:20260912T080000
DTEND;TZID=America/Chicago:20260912T120000
DTSTAMP:20260421T192436
CREATED:20260114T170246Z
LAST-MODIFIED:20260114T170246Z
UID:2070-1789200000-1789214400@canyonfarmersmarket.org
SUMMARY:Canyon Farmers Market
DESCRIPTION:Vendors\, Live Music\, Food Trucks\, and Activities On the Canyon Square
URL:https://canyonfarmersmarket.org/calendar/canyon-farmers-market-14/
LOCATION:Canyon Farmers Market\, 4th Ave. & 15th St\, Canyon\, TX\, Canyon\, United States
ATTACH;FMTTYPE=image/jpeg:https://canyonfarmersmarket.org/web/wp-content/uploads/2025/02/IMG_2848-1-scaled.jpeg
END:VEVENT
BEGIN:VEVENT
DTSTART;TZID=America/Chicago:20260919T080000
DTEND;TZID=America/Chicago:20260919T120000
DTSTAMP:20260421T192436
CREATED:20260114T170145Z
LAST-MODIFIED:20260114T170206Z
UID:2068-1789804800-1789819200@canyonfarmersmarket.org
SUMMARY:Canyon Farmers Market
DESCRIPTION:Vendors\, Live Music\, Food Trucks\, and Activities On the Canyon Square
URL:https://canyonfarmersmarket.org/calendar/canyon-farmers-market-13/
LOCATION:Canyon Farmers Market\, 4th Ave. & 15th St\, Canyon\, TX\, Canyon\, United States
ATTACH;FMTTYPE=image/jpeg:https://canyonfarmersmarket.org/web/wp-content/uploads/2025/02/IMG_2848-1-scaled.jpeg
END:VEVENT
BEGIN:VEVENT
DTSTART;TZID=America/Chicago:20260926T080000
DTEND;TZID=America/Chicago:20260926T120000
DTSTAMP:20260421T192436
CREATED:20250227T004903Z
LAST-MODIFIED:20260114T165543Z
UID:1155-1790409600-1790424000@canyonfarmersmarket.org
SUMMARY:Autumn Streetfest
DESCRIPTION:Vendors\, Live Music\, Food Trucks\, Activities\, Pet Parade\, and FREE pumpkins for the first 100 kids On the Canyon Square.
URL:https://canyonfarmersmarket.org/calendar/autumnfest-at-the-canyon-farmers-market/
LOCATION:Canyon Farmers Market\, 4th Ave. & 15th St\, Canyon\, TX\, Canyon\, United States
ATTACH;FMTTYPE=image/jpeg:https://canyonfarmersmarket.org/web/wp-content/uploads/2025/02/IMG_2848-1-scaled.jpeg
END:VEVENT
END:VCALENDAR