BEGIN:VCALENDAR
VERSION:2.0
PRODID:-//Canyon Farmers Market - ECPv6.15.20//NONSGML v1.0//EN
CALSCALE:GREGORIAN
METHOD:PUBLISH
X-WR-CALNAME:Canyon Farmers Market
X-ORIGINAL-URL:https://canyonfarmersmarket.org
X-WR-CALDESC:Events for Canyon Farmers Market
REFRESH-INTERVAL;VALUE=DURATION:PT1H
X-Robots-Tag:noindex
X-PUBLISHED-TTL:PT1H
BEGIN:VTIMEZONE
TZID:America/Chicago
BEGIN:DAYLIGHT
TZOFFSETFROM:-0600
TZOFFSETTO:-0500
TZNAME:CDT
DTSTART:20250309T080000
END:DAYLIGHT
BEGIN:STANDARD
TZOFFSETFROM:-0500
TZOFFSETTO:-0600
TZNAME:CST
DTSTART:20251102T070000
END:STANDARD
BEGIN:DAYLIGHT
TZOFFSETFROM:-0600
TZOFFSETTO:-0500
TZNAME:CDT
DTSTART:20260308T080000
END:DAYLIGHT
BEGIN:STANDARD
TZOFFSETFROM:-0500
TZOFFSETTO:-0600
TZNAME:CST
DTSTART:20261101T070000
END:STANDARD
BEGIN:DAYLIGHT
TZOFFSETFROM:-0600
TZOFFSETTO:-0500
TZNAME:CDT
DTSTART:20270314T080000
END:DAYLIGHT
BEGIN:STANDARD
TZOFFSETFROM:-0500
TZOFFSETTO:-0600
TZNAME:CST
DTSTART:20271107T070000
END:STANDARD
END:VTIMEZONE
BEGIN:VEVENT
DTSTART;VALUE=DATE:20260315
DTEND;VALUE=DATE:20260316
DTSTAMP:20260421T210436
CREATED:20260114T170501Z
LAST-MODIFIED:20260114T170501Z
UID:2075-1773532800-1773619199@canyonfarmersmarket.org
SUMMARY:New Vendor Application's Open
DESCRIPTION:Find our vendor application under the “Become a Vendor” tab on our website.
URL:https://canyonfarmersmarket.org/calendar/new-vendor-applications-open/
LOCATION:Canyon Farmers Market\, 4th Ave. & 15th St\, Canyon\, TX\, Canyon\, United States
ATTACH;FMTTYPE=image/jpeg:https://canyonfarmersmarket.org/web/wp-content/uploads/2025/02/IMG_2848-1-scaled.jpeg
END:VEVENT
END:VCALENDAR